BEGIN:VCALENDAR
VERSION:2.0
CALSCALE:GREGORIAN
METHOD:REQUEST
PRODID:L'Arche Erie
BEGIN:VEVENT
UID: 1543769eb807e95363@
SUMMARY:Outdoor Adventure Raffle
DTSTAMP:20260424T103854
DTSTART:20260221T130000
DTEND:20260221T130000
LOCATION:2525 W 38th St. Erie, PA 16506
DESCRIPTION:Our much-anticipated Outdoor Adventure Raffle is finally returning! 
STATUS:CONFIRMED
SEQUENCE:3
END:VEVENT
END:VCALENDAR